BEGIN:VCALENDAR
VERSION:2.0
PRODID:-//Associação Brasileira de Zootecnistas - ECPv6.14.0//NONSGML v1.0//EN
CALSCALE:GREGORIAN
METHOD:PUBLISH
X-ORIGINAL-URL:https://abz.org.br
X-WR-CALDESC:Eventos para Associação Brasileira de Zootecnistas
REFRESH-INTERVAL;VALUE=DURATION:PT1H
X-Robots-Tag:noindex
X-PUBLISHED-TTL:PT1H
BEGIN:VTIMEZONE
TZID:America/Sao_Paulo
BEGIN:STANDARD
TZOFFSETFROM:-0300
TZOFFSETTO:-0300
TZNAME:-03
DTSTART:20210101T000000
END:STANDARD
END:VTIMEZONE
BEGIN:VEVENT
DTSTART;TZID=America/Sao_Paulo:20210505T160000
DTEND;TZID=America/Sao_Paulo:20210526T170000
DTSTAMP:20260424T174002
CREATED:20210430T193048Z
LAST-MODIFIED:20210430T193107Z
UID:47870-1620230400-1622048400@abz.org.br
SUMMARY:Mês dos Zootecnistas: união e integração
DESCRIPTION:O Conselho Regional de Medicina Veterinária de Pernambuco (CRMV-PE)\, em parceria com os cursos de Zootecnia da UFAPE\, da UFRPE/Sede\, da UAST e da Univasf\, realizará em maio um evento para homenagear o Dia do Zootecnista. O encontro online será nos dias 5\, 12\, 19 e 26\, sempre a partir das 16h. \nCom o tema União e Integração\, o evento será realizado via canal do YouTube CRMV-PE e contará com vasta programação sobre diversas áreas da Zootecnia. Confira abaixo.
URL:https://abz.org.br/event/mes-dos-zootecnistas-uniao-e-integracao/
ATTACH;FMTTYPE=image/png:https://abz.org.br/wp-content/uploads/2021/04/mes-zootecnista-pernambuco-2021.png
END:VEVENT
BEGIN:VEVENT
DTSTART;TZID=America/Sao_Paulo:20210524T180000
DTEND;TZID=America/Sao_Paulo:20210528T210000
DTSTAMP:20260424T174002
CREATED:20210510T172006Z
LAST-MODIFIED:20210524T214617Z
UID:48050-1621879200-1622235600@abz.org.br
SUMMARY:Evento Online Zooline - Dia do Zootecnista
DESCRIPTION:Em comemoração ao Dia do Zootecnista\, será realizado dos dias 24 a 28 de maio o evento Zooline\, uma iniciativa da empresa Acontece Gestão Rural\, idealizada pela zootecnista Anna Luz\, em parceria com o perfil Zootecnia Oficial SP. Serão duas palestras por dia\, a primeira com início às 18h e a segunda com início às 19h30 (horário de Brasília). Haverá certificado para inscritos. \nPara se inscrever gratuitamente\, clique aqui. \nConfira a programação abaixo:
URL:https://abz.org.br/event/evento-online-zooline-dia-do-zootecnista/
ATTACH;FMTTYPE=image/jpeg:https://abz.org.br/wp-content/uploads/2021/05/evento-zooline-semana-zootecnista.jpg
END:VEVENT
END:VCALENDAR