BEGIN:VCALENDAR
VERSION:2.0
PRODID:-//Associação Brasileira de Zootecnistas - ECPv6.14.0//NONSGML v1.0//EN
CALSCALE:GREGORIAN
METHOD:PUBLISH
X-ORIGINAL-URL:https://abz.org.br
X-WR-CALDESC:Eventos para Associação Brasileira de Zootecnistas
REFRESH-INTERVAL;VALUE=DURATION:PT1H
X-Robots-Tag:noindex
X-PUBLISHED-TTL:PT1H
BEGIN:VTIMEZONE
TZID:America/Sao_Paulo
BEGIN:STANDARD
TZOFFSETFROM:-0300
TZOFFSETTO:-0300
TZNAME:-03
DTSTART:20210101T000000
END:STANDARD
END:VTIMEZONE
BEGIN:VEVENT
DTSTART;TZID=America/Sao_Paulo:20210607T180000
DTEND;TZID=America/Sao_Paulo:20210611T193000
DTSTAMP:20260424T160450
CREATED:20210604T175441Z
LAST-MODIFIED:20210604T175441Z
UID:48124-1623088800-1623439800@abz.org.br
SUMMARY:2ª Semana da Zootecnia Online
DESCRIPTION:De 7 a 11 de junho será realizada a 2ª Semana da Zootecnia Online\, evento que realizará duas palestras gratuitas por noite\, sempre às 18h e às 19h30 (horário de Brasília). Os eventos serão transmitidos via YouTube\, pelo canal da Zootecnia Oficial SP. Haverá emissão de certificados. \nO encontro é voltado para acadêmicos\, estudantes de ensino médio\, profissionais e produtores rurais. \nAs inscrições são gratuitas e podem ser feitas através deste link (clique aqui).
URL:https://abz.org.br/event/segunda-semana-da-zootecnia-online/
ATTACH;FMTTYPE=image/png:https://abz.org.br/wp-content/uploads/2021/06/semana-zootecnia-online-2021.png
END:VEVENT
END:VCALENDAR