BEGIN:VCALENDAR
VERSION:2.0
PRODID:-//Associação Brasileira de Zootecnistas - ECPv6.14.0//NONSGML v1.0//EN
CALSCALE:GREGORIAN
METHOD:PUBLISH
X-ORIGINAL-URL:https://abz.org.br
X-WR-CALDESC:Eventos para Associação Brasileira de Zootecnistas
REFRESH-INTERVAL;VALUE=DURATION:PT1H
X-Robots-Tag:noindex
X-PUBLISHED-TTL:PT1H
BEGIN:VTIMEZONE
TZID:America/Sao_Paulo
BEGIN:STANDARD
TZOFFSETFROM:-0300
TZOFFSETTO:-0300
TZNAME:-03
DTSTART:20230101T000000
END:STANDARD
END:VTIMEZONE
BEGIN:VEVENT
DTSTART;TZID=America/Sao_Paulo:20230628T080000
DTEND;TZID=America/Sao_Paulo:20230628T170000
DTSTAMP:20260423T022126
CREATED:20230628T133300Z
LAST-MODIFIED:20230628T133300Z
UID:49832-1687939200-1687971600@abz.org.br
SUMMARY:Maior evento do gado de leite do Brasil sorteia inscrição
DESCRIPTION:O IX SIMLEITE (Simpósio Internacional de Bovinocultura Leiteira) é o maior simpósio institucional de gado de leite do Brasil e este ano\, será realizado nos dias 10 e 11 de novembro\, em Viçosa (MG). \nOrganizado pelo Programa Família do Leite\, e vinculado ao Departamento de Zootecnia e pelo Departamento de Veterinária da Universidade Federal de Viçosa\, o evento contará com 3 blocos temáticos\, sendo o primeiro dia destinado à NUTRIÇÃO\, e o segundo dia com temáticas de INSTALAÇÕES e REPRODUÇÃO. Ao longo das últimas edições\, o público médio foi em torno de 500 pessoas. \n➡️ O evento é referência e se destaca pela qualidade dos temas e palestrantes\, e com foco na ciência e na aplicação prática de técnicas e conceitos em prol da pecuária leiteira. \nConfira no Instagram @abzootecnistas\, regras para participar SORTEIO para inscrição no evento.\nNão perca! \nFonte: DIRCOM
URL:https://abz.org.br/event/maior-evento-do-gado-de-leite-do-brasil-sorteia-inscricao/
ATTACH;FMTTYPE=image/png:https://abz.org.br/wp-content/uploads/2023/06/BLOG-ABZ_MODELO-CAPAS-18.png
END:VEVENT
END:VCALENDAR