BEGIN:VCALENDAR
VERSION:2.0
PRODID:-//Associação Brasileira de Zootecnistas - ECPv6.14.0//NONSGML v1.0//EN
CALSCALE:GREGORIAN
METHOD:PUBLISH
X-WR-CALNAME:Associação Brasileira de Zootecnistas
X-ORIGINAL-URL:https://abz.org.br
X-WR-CALDESC:Eventos para Associação Brasileira de Zootecnistas
REFRESH-INTERVAL;VALUE=DURATION:PT1H
X-Robots-Tag:noindex
X-PUBLISHED-TTL:PT1H
BEGIN:VTIMEZONE
TZID:America/Sao_Paulo
BEGIN:STANDARD
TZOFFSETFROM:-0300
TZOFFSETTO:-0300
TZNAME:-03
DTSTART:20230101T000000
END:STANDARD
END:VTIMEZONE
BEGIN:VEVENT
DTSTART;VALUE=DATE:20230915
DTEND;VALUE=DATE:20230918
DTSTAMP:20260422T222300
CREATED:20230705T141853Z
LAST-MODIFIED:20230808T135013Z
UID:49867-1694736000-1694995199@abz.org.br
SUMMARY:ABZ 35 Anos
DESCRIPTION:A Associação Brasileira de Zootecnistas (ABZ) celebra seus 35 anos em 2023\, e realizará nos dias 15 a 17 de setembro de 2023\, em meio a 58º edição do Fórum Nacional de Entidades de Zootecnistas\, uma série de solenidades para marcar a data. \nEstá prevista a realização de uma sessão solene no plenário da Câmara dos Deputados de Brasília\, posse da Academia Brasileira de Zootecnia\, outorga de reconhecimento de mérito por serviços prestados e de títulos de sócios especiais\, entre outras atividades. Para conferir a programação completa de comemoração\, clique aqui. \nFonte: DIRCOM
URL:https://abz.org.br/event/celebracoes-abz-35-anos/
LOCATION:Casa do Zootecnista\, Brasília\, Distrito Federal\, Brasil
ATTACH;FMTTYPE=image/png:https://abz.org.br/wp-content/uploads/2023/07/BLOG-ABZ_MODELO-CAPAS-22.png
END:VEVENT
END:VCALENDAR