BEGIN:VCALENDAR
VERSION:2.0
PRODID:-//Associação Brasileira de Zootecnistas - ECPv6.14.0//NONSGML v1.0//EN
CALSCALE:GREGORIAN
METHOD:PUBLISH
X-ORIGINAL-URL:https://abz.org.br
X-WR-CALDESC:Eventos para Associação Brasileira de Zootecnistas
REFRESH-INTERVAL;VALUE=DURATION:PT1H
X-Robots-Tag:noindex
X-PUBLISHED-TTL:PT1H
BEGIN:VTIMEZONE
TZID:America/Sao_Paulo
BEGIN:STANDARD
TZOFFSETFROM:-0300
TZOFFSETTO:-0300
TZNAME:-03
DTSTART:20230101T000000
END:STANDARD
END:VTIMEZONE
BEGIN:VEVENT
DTSTART;VALUE=DATE:20231110
DTEND;VALUE=DATE:20231113
DTSTAMP:20260422T184854
CREATED:20230705T150223Z
LAST-MODIFIED:20231123T173526Z
UID:49881-1699574400-1699833599@abz.org.br
SUMMARY:IX SIMLEITE (Simpósio Internacional de Bovinocultura Leiteira)
DESCRIPTION:O IX SIMLEITE (Simpósio Internacional de Bovinocultura Leiteira) é o maior simpósio institucional de gado de leite do Brasil e este ano\, será realizado nos dias 10 e 11 de novembro\, em Viçosa (MG). \nOrganizado pelo Programa Família do Leite\, e vinculado ao Departamento de Zootecnia e pelo Departamento de Veterinária da Universidade Federal de Viçosa\, o evento contará com 3 blocos temáticos\, sendo o primeiro dia destinado à NUTRIÇÃO\, e o segundo dia com temáticas de INSTALAÇÕES e REPRODUÇÃO. Ao longo das últimas edições\, o público médio foi em torno de 500 pessoas. \n O evento é referência e se destaca pela qualidade dos temas e palestrantes\, e com foco na ciência e na aplicação prática de técnicas e conceitos em prol da pecuária leiteira. \nConfira no Instagram @abzootecnistas\, regras para participar SORTEIO para inscrição no evento.\nNão perca! \nFonte: DIRCOM
URL:https://abz.org.br/event/ix-simleite-simposio-internacional-de-bovinocultura-leiteira/
LOCATION:Universidade Federal de Viçosa\, Viçosa\, Minas Gerais\, Brasil
ATTACH;FMTTYPE=image/png:https://abz.org.br/wp-content/uploads/2023/07/BLOG-ABZ_MODELO-CAPAS-25.png
END:VEVENT
END:VCALENDAR