BEGIN:VCALENDAR
VERSION:2.0
PRODID:-//Associação Brasileira de Zootecnistas - ECPv6.14.0//NONSGML v1.0//EN
CALSCALE:GREGORIAN
METHOD:PUBLISH
X-ORIGINAL-URL:https://abz.org.br
X-WR-CALDESC:Eventos para Associação Brasileira de Zootecnistas
REFRESH-INTERVAL;VALUE=DURATION:PT1H
X-Robots-Tag:noindex
X-PUBLISHED-TTL:PT1H
BEGIN:VTIMEZONE
TZID:America/Sao_Paulo
BEGIN:STANDARD
TZOFFSETFROM:-0300
TZOFFSETTO:-0300
TZNAME:-03
DTSTART:20220101T000000
END:STANDARD
END:VTIMEZONE
BEGIN:VEVENT
DTSTART;VALUE=DATE:20220905
DTEND;VALUE=DATE:20220910
DTSTAMP:20260423T151250
CREATED:20220111T135959Z
LAST-MODIFIED:20220111T135959Z
UID:49135-1662336000-1662767999@abz.org.br
SUMMARY:73º Reunião Anual da Federação Europeia de Ciências Animais (EAAP 2022)
DESCRIPTION:Entre 5 e 9 de setembro de 2022\, será realizada a 73ª Reunião Anual da Federação Europeia de Ciências Animais (EAAP). O evento ocorre em Porto\, Portugal\, e é organizado pela Associação Portuguesa de Engenharia Zootécnica (APEZ)\, com apoio da Associação Brasileira de Zootecnistas (ABZ). \nNesta edição de retomada de atividades presenciais\, o evento irá debater\, sob o prisma da inovação\, os desafios impostos pelas mudanças climáticas à produção animal\, além de temas como sustentabilidade na pecuária; alimentação do mundo; tecnologia na produção animal e mais. \nO programa cobrirá várias áreas do conhecimento\, como nutrição\, genética\, fisiologia\, saúde e bem-estar animal\, pecuária\, sistemas agrícolas\, pecuária de precisão\, produção e uso de insetos\, gado\, suínos\, produção de ovinos e caprinos. \nA Reunião Anual da Federação Europeia de Ciência Animal também conta painéis científicos onde serão apresentados trabalhos de pesquisadores do mundo todo. São esperados no evento mais de 1.500 participantes de pelo menos 50 países. \nPara conferir a programação\, prazos de submissão e mais detalhes\, clique aqui.
URL:https://abz.org.br/event/73o-reuniao-anual-da-federacao-europeia-de-ciencias-animais-eaap-2022/
LOCATION:Porto\, Portugal\, Portugal
ATTACH;FMTTYPE=image/png:https://abz.org.br/wp-content/uploads/2022/01/73-eaap-europa.png
END:VEVENT
END:VCALENDAR